BEGIN:VCALENDAR
VERSION:2.0
PRODID:-//Tukios.com/
BEGIN:VEVENT
UID:ce2b709f-61a8-4eb5-9c95-4615c5efc6b1@www.slonecares.com
DTSTAMP:20260425T004315Z
DTSTART:20260430T180000Z
DTEND:20260430T200000Z
SUMMARY:Visitation
DESCRIPTION:
URL:https://www.slonecares.com/obituaries/willie-searight-jr
LOCATION:Slone & Co. Funeral Directors 13115 Lorain Ave  Cleveland OH 
	44111
GEO:41.4577963;-81.7805427
END:VEVENT
END:VCALENDAR