BEGIN:VCALENDAR
VERSION:2.0
PRODID:-//Tukios.com/
BEGIN:VEVENT
UID:8d365f7c-d602-4d43-a102-e51a839dbca8@www.slonecares.com
DTSTAMP:20260420T233559Z
DTSTART:20260423T161500Z
DTEND:20260423T171500Z
SUMMARY:Graveside Service
DESCRIPTION:(Please meet at cemetery gates by 12 p.m.)
URL:https://www.slonecares.com/obituaries/patricia-morova
LOCATION: 10175 Rawiga Rd  Seville OH 44273
GEO:40.9958882;-81.8152461
END:VEVENT
END:VCALENDAR