BEGIN:VCALENDAR
VERSION:2.0
PRODID:-//Tukios.com/
BEGIN:VEVENT
UID:a608b952-344b-43b6-9ecd-f23e34928e81@www.slonecares.com
DTSTAMP:20260420T233013Z
DTSTART:20260422T220000Z
DTEND:20260423T000000Z
SUMMARY:Visitation
DESCRIPTION:
URL:https://www.slonecares.com/obituaries/patricia-morova
LOCATION:Slone & Co. Funeral Directors 13115 Lorain Ave  Cleveland OH 
	44111
GEO:41.4577963;-81.7805427
END:VEVENT
END:VCALENDAR